BEGIN:VCALENDAR
VERSION:2.0
PRODID:-//Meryton Press - ECPv6.8.3//NONSGML v1.0//EN
CALSCALE:GREGORIAN
METHOD:PUBLISH
X-ORIGINAL-URL:https://merytonpress.com
X-WR-CALDESC:Events for Meryton Press
REFRESH-INTERVAL;VALUE=DURATION:PT1H
X-Robots-Tag:noindex
X-PUBLISHED-TTL:PT1H
BEGIN:VTIMEZONE
TZID:America/Indiana/Tell_City
BEGIN:DAYLIGHT
TZOFFSETFROM:-0600
TZOFFSETTO:-0500
TZNAME:CDT
DTSTART:20150308T080000
END:DAYLIGHT
BEGIN:STANDARD
TZOFFSETFROM:-0500
TZOFFSETTO:-0600
TZNAME:CST
DTSTART:20151101T070000
END:STANDARD
END:VTIMEZONE
BEGIN:VEVENT
DTSTART;VALUE=DATE:20150131
DTEND;VALUE=DATE:20150201
DTSTAMP:20260423T162913
CREATED:20150121T221457Z
LAST-MODIFIED:20150130T184441Z
UID:2268-1422662400-1422748799@merytonpress.com
SUMMARY:Boots & Backpacks Giveaway - Autographed
DESCRIPTION:Enter to win one of five autographed copies of Boots & Backpacks sponsored by author\, KC Kahler\, at Goodreads. \nShare this:Click to share on Facebook (Opens in new window)Click to share on Twitter (Opens in new window)Click to share on Pinterest (Opens in new window)Like this:Like Loading...
URL:https://merytonpress.com/event/boots-backpacks-giveaway-autographed/
LOCATION:Goodreads
CATEGORIES:Giveaway
ATTACH;FMTTYPE=image/jpeg:https://merytonpress.com/wp-content/uploads/2014/09/bnbTitle7a.jpg
END:VEVENT
BEGIN:VEVENT
DTSTART;VALUE=DATE:20150130
DTEND;VALUE=DATE:20150131
DTSTAMP:20260423T162913
CREATED:20150121T190124Z
LAST-MODIFIED:20150121T191539Z
UID:2256-1422576000-1422662399@merytonpress.com
SUMMARY:The Muse Giveaway - Autographed
DESCRIPTION:Jessica Evans is giving away an autographed copy of her book\, The Muse\, to a lucky winner at Goodreads.  Contest ends January 31st. \nShare this:Click to share on Facebook (Opens in new window)Click to share on Twitter (Opens in new window)Click to share on Pinterest (Opens in new window)Like this:Like Loading...
URL:https://merytonpress.com/event/the-muse-giveaway-autographed/
LOCATION:Goodreads
CATEGORIES:Giveaway
ATTACH;FMTTYPE=image/jpeg:https://merytonpress.com/wp-content/uploads/2014/10/musecoverfront.jpg
END:VEVENT
END:VCALENDAR