BEGIN:VCALENDAR
VERSION:2.0
PRODID:-//Meryton Press - ECPv6.8.3//NONSGML v1.0//EN
CALSCALE:GREGORIAN
METHOD:PUBLISH
X-WR-CALNAME:Meryton Press
X-ORIGINAL-URL:https://merytonpress.com
X-WR-CALDESC:Events for Meryton Press
REFRESH-INTERVAL;VALUE=DURATION:PT1H
X-Robots-Tag:noindex
X-PUBLISHED-TTL:PT1H
BEGIN:VTIMEZONE
TZID:America/New_York
BEGIN:DAYLIGHT
TZOFFSETFROM:-0500
TZOFFSETTO:-0400
TZNAME:EDT
DTSTART:20150308T070000
END:DAYLIGHT
BEGIN:STANDARD
TZOFFSETFROM:-0400
TZOFFSETTO:-0500
TZNAME:EST
DTSTART:20151101T060000
END:STANDARD
TZID:America/Indiana/Tell_City
BEGIN:DAYLIGHT
TZOFFSETFROM:-0600
TZOFFSETTO:-0500
TZNAME:CDT
DTSTART:20150308T080000
END:DAYLIGHT
BEGIN:STANDARD
TZOFFSETFROM:-0500
TZOFFSETTO:-0600
TZNAME:CST
DTSTART:20151101T070000
END:STANDARD
END:VTIMEZONE
BEGIN:VEVENT
DTSTART;VALUE=DATE:20151009
DTEND;VALUE=DATE:20151012
DTSTAMP:20260423T194831
CREATED:20150121T215615Z
LAST-MODIFIED:20151004T153328Z
UID:2262-1444348800-1444607999@merytonpress.com
SUMMARY:Meryton Press Authors at JASNA in Louisville
DESCRIPTION:Linda Beutler\, author of The Red Chrysanthemum\, Longbourn to London\, and A Will of Iron\, will be speaking at a break out session of the JASNA annual meeting in Louisville\, KY on the topic Garden Like Austen\, plants Jane Austen knew and grew\, geared for modern gardeners wishing to create an old fashioned cottage garden. The event theme this year is “Living in Jane Austen’s World.” She’ll also be signing books. \nSuzan Lauder\, author of Alias Thomas Bennet\, and creator of the Thrift Regency Costume Experiment will also be there decked out in the results of the experiment\, signing books\, and doing a giveaway. \nEvent registration required to attend. \nShare this:Click to share on Facebook (Opens in new window)Click to share on Twitter (Opens in new window)Click to share on Pinterest (Opens in new window)Like this:Like Loading...
URL:https://merytonpress.com/event/linda-beutler-at-jasna/
LOCATION:The Galt House\, 140 N 4th St\, Louisville\, KY\, 40202\, United States
CATEGORIES:Author Appearance
ATTACH;FMTTYPE=image/jpeg:https://merytonpress.com/wp-content/uploads/2015/01/banner.jpg
END:VEVENT
BEGIN:VEVENT
DTSTART;VALUE=DATE:20150320
DTEND;VALUE=DATE:20150321
DTSTAMP:20260423T194831
CREATED:20150225T225319Z
LAST-MODIFIED:20150225T231518Z
UID:2419-1426809600-1426895999@merytonpress.com
SUMMARY:KC Kahler at Jane Austen Festival
DESCRIPTION:KC Kahler will be at the 2015 Jane Austen Festival in Pittsburgh\, PA.  She will be signing copies of her book\, Boots & Backpacks: Pride & Prejudice on the Appalachian Trail\, Roughly in the event book vendor area.  You must register for this event with JASNA of Pittsburgh. \nShare this:Click to share on Facebook (Opens in new window)Click to share on Twitter (Opens in new window)Click to share on Pinterest (Opens in new window)Like this:Like Loading...
URL:https://merytonpress.com/event/kc-kahler-at-jane-austen-festival/
LOCATION:Pittsburgh Athletic Club\, 4215 Fifth Ave\, Pittsburgh\, PA\, 15213\, United States
CATEGORIES:Author Appearance
END:VEVENT
END:VCALENDAR